BEGIN:VCALENDAR
VERSION:2.0
PRODID:-//wp-events-plugin.com//6.4.10.2//EN
BEGIN:VEVENT
UID:15@ahpg.org
DTSTART;TZID=Asia/Karachi:20240921T150000
DTEND;TZID=Asia/Karachi:20240921T160000
DTSTAMP:20241023T185313Z
URL:https://ahpg.org/events/webinar-on-return-to-play-strategies-integrati
 ng-sports-science-rehab-protocols-and-functional-occupational-therapy/
SUMMARY:Webinar on "Return-to-Play Strategies: Integrating Sports Science\,
  Rehab Protocols\, and Functional Occupational Therapy"
DESCRIPTION:AHPG invites you to take advantage of this fantastic opportunit
 y to gain valuable insight into the important topic of ‘’Return-to-Pla
 y Strategies: Integrating Sports Science\, Rehab Protocols\, and Functiona
 l Occupational Therapy’’ All healthcare professionals and students are
  welcome to join this FREE webinar. Ms. Hina Lokhandwala\, Ms. Faiza Bibi\
 , and Ms. Ramsha Umar a respected professionals will be sharing her expert
 ise on the subject.
END:VEVENT
BEGIN:VTIMEZONE
TZID:Asia/Karachi
X-LIC-LOCATION:Asia/Karachi
BEGIN:STANDARD
DTSTART:20230922T150000
TZOFFSETFROM:+0500
TZOFFSETTO:+0500
TZNAME:PKT
END:STANDARD
END:VTIMEZONE
END:VCALENDAR