BEGIN:VCALENDAR
VERSION:2.0
PRODID:-//wp-events-plugin.com//6.4.10.2//EN
BEGIN:VEVENT
UID:13@ahpg.org
DTSTART;TZID=Asia/Karachi:20240803T150000
DTEND;TZID=Asia/Karachi:20240803T160000
DTSTAMP:20241023T182819Z
URL:https://ahpg.org/events/webinar-on-imposter-syndrome-in-occupational-t
 herapy/
SUMMARY:Webinar on "Imposter Syndrome in Occupational Therapy"
DESCRIPTION:The Association of Healthcare Professionals Globally (AHPG) i
 s inviting you to an insightful webinar titled “Imposter Syndrome in Oc
 cupational Therapy” Exploring the Challenges\, Impacts\, and Coping Str
 ategies for Practitioners.\n\nThis event features distinguished guest spea
 ker Ms. Leesa Tuffnell from Australia. Ms. Tuffnell is an experienced oc
 cupational therapist\, supervisor\, and coach who specializes in equipping
  clinicians with the skills they need to excel in their profession. She wi
 ll share invaluable insights and experiences on this critical topic.\n\nIm
 poster Syndrome can significantly impact our success journey by causing se
 lf-doubt\, fear of being exposed as a fraud\, and reluctance to seek new o
 pportunities. It often leads to overworking\, burnout\, and a diminished s
 ense of achievement\, which can hinder personal and professional growth. T
 o overcome this\, it's essential to:\n\nKey Topics:\n\n 	Acknowledge and D
 iscuss: Recognize and openly discuss feelings of imposter syndrome.\n 	Cha
 llenge Negative Thoughts: Reframe negative thoughts and focus on achieveme
 nts and strengths.\n 	Seek Support: Engage with mentors\, peers\, or profe
 ssional help to gain perspective.\n 	Celebrate Achievements: Regularly ack
 nowledge and celebrate successes.\n 	Practice Self-Compassion: Be kind to 
 yourself and understand that everyone experiences self-doubt at times.\n\n
 Event Details:\n\n 	Moderator: Ms. Sarosh Rehman (OTD\, Global Director-OT
 \, AHPG)\n 	Date: August 03\, 2024\n 	Time:\n\n 	03:00 PM - 04:00 PM PKST\
 n 	08:00 PM - 09:00 PM AEST\n 	10:00 AM - 11:00 AM GMT\n 	06:00 AM - 07:00
  AM US EST\n\n\n
END:VEVENT
BEGIN:VTIMEZONE
TZID:Asia/Karachi
X-LIC-LOCATION:Asia/Karachi
BEGIN:STANDARD
DTSTART:20230804T150000
TZOFFSETFROM:+0500
TZOFFSETTO:+0500
TZNAME:PKT
END:STANDARD
END:VTIMEZONE
END:VCALENDAR