BEGIN:VCALENDAR
VERSION:2.0
PRODID:-//wp-events-plugin.com//6.4.10.2//EN
BEGIN:VEVENT
UID:7@ahpg.org
DTSTART:20240707T100000Z
DTEND:20240707T130000Z
DTSTAMP:20240510T202159Z
URL:https://ahpg.org/events/ultrasound-role-in-modern-medicine/
SUMMARY:Ultrasound 101
DESCRIPTION:It's Role in Modern Medicine.\n\n&nbsp\;\n\nDate : July 07\, 20
 24\n\nHybrid Location : Lectures Online &amp\; Workshop On Campus
LOCATION:Hybrid\, Online + On Campus\, Karachi\, Pakistan\, 75850\, Pakista
 n
X-APPLE-STRUCTURED-LOCATION;VALUE=URI;X-ADDRESS=Online + On Campus\, Karach
 i\, Pakistan\, 75850\, Pakistan;X-APPLE-RADIUS=100;X-TITLE=Hybrid:geo:0,0
END:VEVENT
END:VCALENDAR