BEGIN:VCALENDAR
VERSION:2.0
PRODID:-//wp-events-plugin.com//6.4.10.2//EN
BEGIN:VEVENT
UID:11@ahpg.org
DTSTART;TZID=Asia/Karachi:20241014T110000
DTEND;TZID=Asia/Karachi:20241014T120000
DTSTAMP:20241022T171318Z
URL:https://ahpg.org/events/panel-discussion-on-the-growing-importance-of-
 allied-health-sciences-in-modern-healthcare/
SUMMARY:Panel Discussion on " The Growing Importance of Allied Health Scien
 ces in Modern Healthcare"
DESCRIPTION:\n\n\nThe inaugural event recognizing the important contributio
 ns of Allied Health Professions was organized by the Association of Health
 care Professionals Globally (AHPG) in collaboration with the Dow Universit
 y of Health Sciences (DUHS) and took place on October 14th.\n\n[foogallery
  id="2600"]\n\n\n\n\nThe event included an engaging panel discussion with 
 distinguished Allied Health Professionals from various fields and was atte
 nded by a full house audience.\n
LOCATION:Karachi\, Pakistan\, Dow University of Health Sciences\, Karachi\,
  Sindh\, 74400\, Pakistan
X-APPLE-STRUCTURED-LOCATION;VALUE=URI;X-ADDRESS=Dow University of Health Sc
 iences\, Karachi\, Sindh\, 74400\, Pakistan;X-APPLE-RADIUS=100;X-TITLE=Kar
 achi\, Pakistan:geo:0,0
END:VEVENT
BEGIN:VTIMEZONE
TZID:Asia/Karachi
X-LIC-LOCATION:Asia/Karachi
BEGIN:STANDARD
DTSTART:20231015T110000
TZOFFSETFROM:+0500
TZOFFSETTO:+0500
TZNAME:PKT
END:STANDARD
END:VTIMEZONE
END:VCALENDAR