BEGIN:VCALENDAR
VERSION:2.0
PRODID:-//wp-events-plugin.com//6.4.10.2//EN
BEGIN:VEVENT
UID:8@ahpg.org
DTSTART:20250106T100000Z
DTEND:20250106T130000Z
DTSTAMP:20240510T204837Z
URL:https://ahpg.org/events/global-eminence-award-2024/
SUMMARY:Global Eminence Award 2024
DESCRIPTION:
END:VEVENT
END:VCALENDAR