BEGIN:VCALENDAR
VERSION:2.0
PRODID:-//wp-events-plugin.com//6.4.10.2//EN
BEGIN:VEVENT
UID:6@ahpg.org
DTSTART:20240426T140000Z
DTEND:20240426T160000Z
DTSTAMP:20240510T194019Z
URL:https://ahpg.org/events/challenges-in-modern-nursing-3/
SUMMARY:Challenges In Modern Nursing
DESCRIPTION:Join this online Workshop &amp\; get a chance to study abroad.\
 n\nTopics:\n\n- Six C's of nursing\n\n- Empowering Nurses\n\n- Nurse's Wel
 lbeing\n\n- Role of Nurses in Patient Safety\n\n*Certificate of attendance
  will be awarded*\n\nDate: April 26\, 2024 Time: 18:00 PST | 14:00 UTC | 1
 7:00 GST
END:VEVENT
END:VCALENDAR